Workbook
Name alm: #REF!
Name alm: #N/A
Name alm: #N/A
Name alm: #REF!
Name alm: #REF!
Name alm: #REF!
Name BETAO: 300
Name FURAÇÃO_JET: 80
Name p: #N/A
Name p: #N/A
Name p: #REF!
Name TRATAMENTO_JET: 250

Sheet Resumo 
A1: RESUMO
A4: DESCRIÇÃO | C4: TOTAL
C5: (MZN)
A6: 1 | B6: OBRAS GERAIS
A7: 1.1 | B7: MOBILIZAÇÃO E DESMOBILIZAÇÃO DO EMPREITEIRO | C7: =+'1'!F8 -> 0
A8: 1.2 | B8: TRABALHOS PRELIMINARES E DISPOSIÇÕES GERAIS | C8: =+'1'!F15 -> 0
A9: 1.3 | B9: PLACA DE SINALIZAÇÃO DE ACORDO COM OS DESENHOS | C9: =+'1'!F19 -> 0
A10: 1.4 | B10: DESENHOS, GEOREFERENCIAÇÃO E MANUAIS | C10: =+'1'!F23 -> 0
A11: 1.5 | B11: INSTALAÇÕES PARA O REPRESENTANTE DA FISCALIZAÇÃO E DO DONO DA OBRA | C11: =+'1'!F28 -> 0
A12: 1.6 | B12: MANUTENÇÃO DAS INSTALAÇÕES | C12: =+'1'!F31 -> 0
A13: 1.7 | B13: MARCAÇÃO DE FRENTES DE TRABALHO E DE SEGURANÇA | C13: =+'1'!F35 -> 0
A14: 1.8 | B14: TRABALHOS DE PREPARAÇÃO GERAL E ACOMPANHAMENTO DOS TRABALHOS | C14: =+'1'!F44 -> 0
A15: 1.9 | B15: QUALIDADE, SAÚDE, SEGURANÇA E AMBIENTE | C15: =+'1'!F52 -> 0
A16: 1.1 | B16: MÃO-DE-OBRA PARA ACRESCENTAR A EQUIPA DE ENGENHARIA | C16: =+'1'!F58 -> 0
B17: SUB-TOTAL | C17: =+SUM(C7:C16) -> 0
A18: 2 | B18: REDE DE DRENAGEM E CONTROLO DE EROSÃO
A19: 2.1 | B19: CHAMANCULO-A (Av. Trabalho, Rua 2333, Rua Estácio Dias, Rua 2253) | C19: ='2.1'!F221 -> 0
A20: 2.2 | B20: CHAMANCULO-B/D/Xipamanine (Rua da UFA) | C20: ='2.2'!F129 -> 0
A21: 2.3 | B21: CHAMANCULO-B/D/Xipamanine (Rua Marcelino dos Santos) | C21: ='2.3'!F44 -> 0
A22: 2.4 | B22: MALANGA MACRO (Av. do Trabalho, Rua 2019) | C22: ='2.4'!F103 -> 0
B23: SUB-TOTAL | C23: =+SUM(C19:C22) -> 0
A24: 3 | B24: REDE DE DISTRIBUIÇÃO DE ÁGUA
A25: 3.1 | B25: CHAMANCULO-A (Av. Trabalho, Rua 2333, Rua Estácio Dias, Rua 2253) | C25: ='3.1'!F204 -> 0
A26: 3.2 | B26: CHAMANCULO-B/D/Xipamanine (Rua da UFA, Rua Marcelino dos Santos) | C26: ='3.2'!F106 -> 0
A27: 3.3 | B27: MALANGA MACRO (Av. do Trabalho, Rua 2019) | C27: ='3.3'!F21 -> 0
B28: SUB-TOTAL | C28: =+SUM(C25:C27) -> 0
A29: 4 | B29: ESTRADAS E CAMINHOS
A30: 4.1 | B30: CHAMANCULO-A (Av. Trabalho, Rua 2333, Rua Estácio Dias, Rua 2253) | C30: =+'4.1'!F147 -> 0
A31: 4.2 | B31: CHAMANCULO-B (RUA DA UFA) | C31: ='4.2'!F145 -> 0
B32: SUB-TOTAL | C32: =+SUM(C30:C31) -> 0
A33: 5 | B33: ILUMINAÇÃO PÚBLICA
A34: 5.1 | B34: CHAMANCULO-A (Av. Trabalho, Rua 2333, Rua Estácio Dias, Rua 2253) | C34: ='5.1'!F21 -> 0
A35: 5.2 | B35: CHAMANCULO-B/D/Xipamanine (Rua da UFA, Rua Marcelino dos Santos) | C35: ='5.2'!F10 -> 0
B36: SUB-TOTAL | C36: =+SUM(C34:C35) -> 0
A37: 6 | B37: RECOLHA DE RESÍDUOS SÓLIDOS
A38: 6.1 | B38: CHAMANCULO-A (Av. Trabalho, Rua 2333, Rua Estácio Dias, Rua 2253) | C38: ='6.1a6.3'!F15 -> 0
A39: 6.2 | B39: CHAMANCULO-B/D/Xipamanine (Rua da UFA, Rua Marcelino dos Santos) | C39: ='6.1a6.3'!F19 -> 0
A40: 6.3 | B40: OBRAS COMPLEMENTARES NA RUA 2253 (BECÃO) PARA CONTROLO DA ENTRADA DE RESÍDUOS SÓLIDOS URBANOS NO SISTEMA DE DRENAGEM | C40: ='6.1a6.3'!F42 -> 0
B41: SUB-TOTAL | C41: =SUM(C38:C40) -> 0
A42: 7 | B42: VERBAS PROVISÓRIAS (10%)
...

Sheet 1
A1: DESCRIÇÃO | C1: UNIDADE | D1: QUANTIDADES | E1: PREÇO UNITARIO | F1: TOTAL
E2: (MZN) | F2: (MZN)
A3: 1 | B3: OBRAS GERAIS
B4: ObservaçõesTodos os trabalhos descritos neste Mapa de Quantidades deverão ser executados de acordo com os Desenhos e Especificações que fazem parte deste Projeto Detalhado, incluindo todos os trabalhos, materiais e acessórios necessários e complementares para a correta execução das tarefas.
A5: 1.1 | B5: MOBILIZAÇÃO E DESMOBILIZAÇÃO DO EMPREITEIRO
A6: 1.1.1 | B6: Mobilização do empreiteiro no local, incluindo a montagem de máquinas, equipamentos e instalações fixas, instalações, escritórios, locais de armazenamento, ligação de água e eletricidade, alojamento e todas as outras medidas necessárias para a execução dos trabalhos. | C6: LS | D6: 1 | F6: =D6*E6 -> 0
A7: 1.1.2 | B7: Desmobilização do empreiteiro após a conclusão dos trabalhos, incluindo a limpeza de todos os locais, a remoção de todos os equipamentos e instalações temporárias, a reposição de todos os locais utilizados, a reparação e todas as medidas necessárias a contento do Engenheiro. | C7: LS | D7: 1 | F7: =D7*E7 -> 0
B8: TOTAL DE 1.1 | F8: =SUM(F6:F7) -> 0
A9: 1.2 | B9: TRABALHOS PRELIMINARES E DISPOSIÇÕES GERAIS
A10: 1.2.1 | B10: Obrigações gerais do empreiteiro
A11: 1.2.1.1 | B11: Fornecimento de garantias de execução de acordo com a Cláusula 4.2 das Condições do Contrato G.C.C.. | C11: LS | D11: 1 | F11: =D11*E11 -> 0
A12: 1.2.1.2 | B12: Prestação de Garantia de Pagamento Antecipado de acordo com a Cláusula 14.2 das Condições do Contrato G.C.C.. | C12: LS | D12: 1 | F12: =D12*E12 -> 0
A13: 1.2.2 | B13: Seguros
A14: 1.2.2.1 | B14: Este item deve cobrir as despesas para manter todos os seguros devidos à Lei Nacional (Moçambique) e Normas Internacionais durante o período de obras e para DLP conforme necessário. Entre outros, os seguintes seguros devem ser mantidos válidos e o Empreiteiro deve enviar anualmente, por sua própria iniciativa, todos os 6 meses, o certificado de apólice de seguro válido (cópia) ao Dono da Obra e deve alterar e prolongar a apólice de seguro em tempo útil (G.C.C 19.2): - Seguro exigido para os Trabalhos; - Seguro exigido para os Bens; - Seguro necessário para a responsabilidade por incumprimento de deveres profissionais; - Seguro exigido em caso de responsabilidade por violação de deveres profissionais; Seguro exigido em caso de responsabilidade por adequação ao fim a que se destina; - Seguro exigido por danos pessoais e materiais; - Seguro exigido por danos a empregados; - Outros seguros exigidos pela legislação e pela prática local. | C14: LS | D14: 1 | F14: =D14*E14 -> 0
B15: TOTAL DE 1.2 | F15: =SUM(F11:F14) -> 0
A16: 1.3 | B16: PLACA DE SINALIZAÇÃO DE ACORDO COM OS DESENHOS
A17: 1.3.1 | B17: Fornecimento e instalação de placa de obra conforme desenhos fornecidos. A localização exata será indicada pelo Fiscal da Obra após aprovação pelo Dono da Obra. | C17: Un | D17: 1 | F17: =+D17*E17 -> 0
A18: 1.3.2 | B18: Remocao das Placas de Obra apos a conclusao da obra. | C18: Un | D18: 1 | F18: =+D18*E18 -> 0
B19: TOTAL DE 1.3 | F19: =+SUM(F17:F18) -> 0
A20: 1.4 | B20: DESENHOS, GEOREFERENCIAÇÃO E MANUAIS
A21: 1.4.1 | B21: Elaboração e apresentação de desenhos as-built, incluindo georreferenciação das tubagens, câmaras e acessórios associados. | C21: LS | D21: 1 | F21: =+D21*E21 -> 0
A22: 1.4.2 | B22: Elaboração e apresentação de manuais de operação e manutenção das infra-estruturas e equipamentos instalados, incluindo a formação de cinco técnicos credenciados, a designar pelo Dono de Obra, incluindo todos os trabalhos, materiais e acessórios necessários e complementares para a correta execução da tarefa. | C22: LS | D22: 1 | F22: =+D22*E22 -> 0
B23: TOTAL DE 1.4 | F23: =+SUM(F21:F22) -> 0
A24: 1.5 | B24: INSTALAÇÕES PARA O REPRESENTANTE DA FISCALIZAÇÃO E DO DONO DA OBRA
A25: 1.5.1 | B25: Fornecimento, montagem e instalação de módulo de escritório com largura mínima de 3,00m, para utilização como espaço de trabalho/escritório (8,25m x 3,00m), de acordo com o Caderno de Encargos. | C25: Un | D25: 2 | F25: =+D25*E25 -> 0
A26: 1.5.2 | B26: Fornecimento, construção e montagem de módulo de instalações sanitárias, conforme o Caderno de Encargos. | C26: Un | D26: 2 | F26: =+D26*E26 -> 0
A27: 1.5.3 | B27: Mobiliário para dois módulos de escritórios, conforme Caderno de Encargos. | C27: LS | D27: 1 | F27: =+D27*E27 -> 0
B28: TOTAL DE 1.5 | F28: =SUM(F25:F27) -> 0
A29: 1.6 | B29: MANUTENÇÃO DAS INSTALAÇÕES
A30: 1.6.1 | B30: Instalações de manutenção e serviços para o Empreiteiro, incluindo custos de mão de obra, custos de consumo de água, eletricidade e telefone e todas as obras, segurança, materiais e acessórios necessários e complementares para a correta execução das tarefas, durante a duração do Contrato, conforme especificado no Caderno de Encargos, incluindo a manutenção das instalações do escritório para o Engenheiro. | C30: mês | D30: 18 | F30: =+D30*E30 -> 0
B31: TOTAL DE 1.6 | F31: =+F30 -> 0
A32: 1.7 | B32: MARCAÇÃO DE FRENTES DE TRABALHO E DE SEGURANÇA
A33: 1.7.1 | B33: Execução e melhoria das vias de trabalho do estaleiro, acessos para o tráfego de máquinas, frentes de trabalho, marcações completas, fornecimento, montagem e manutenção, incluindo as marcações rodoviárias e de segurança. | C33: LS | D33: 1 | F33: =+D33*E33 -> 0
A34: 1.7.2 | B34: Execução e implementação do Plano de Desvios de Tráfego e Pedestres, incluindo o desvio e alteração da circulação do tráfego na zona de interferência dos trabalhos, de acordo com o Plano de Trabalhos apresentado pelo Empreiteiro, a submeter à aprovação do Dono de Obra / Fiscalização e de todas as Autoridades Licenciadoras. | C34: LS | D34: 1 | F34: =+D34*E34 -> 0
B35: TOTAL DE 1.7 | F35: =+SUM(F33:F34) -> 0
A36: 1.8 | B36: TRABALHOS DE PREPARAÇÃO GERAL E ACOMPANHAMENTO DOS TRABALHOS
A37: 1.8.1 | B37: Fornecimento e montagem de laboratório, equipado para a execução de ensaios de controlo de qualidade de solos, agregados, betões, betuminosos e tubagens, nas condições indicadas no Caderno de Encargos, incluindo materiais de consumo para ensaios e todos os trabalhos, materiais e acessórios necessários e complementares para a correta execução da tarefa. | C37: LS | D37: 1 | F37: =+D37*E37 -> 0
A38: 1.8.2 | B38: Testes de acompanhamento da execução da obra de acordo com o Caderno de Encargos. | C38: LS | D38: 1 | F38: =+D38*E38 -> 0
A39: 1.8.3 | B39: Trabalhos de limpeza e desinfeção de condutas antes do arranque da empreitada de acordo com o Caderno de Encargos. | C39: LS | D39: 1 | F39: =+D39*E39 -> 0
A40: 1.8.4 | B40: Desenvolvimento e acompanhamento do processo de Qualidade e Ambiente da obra. | C40: LS | D40: 1 | F40: =+D40*E40 -> 0
...

Sheet 2.1
A1: DESCRIÇÃO | C1: UNIDADE | D1: QUANTIDADES | E1: PREÇO UNITARIO | F1: TOTAL
E2: (MZN) | F2: (MZN)
A3: 2 | B3: REDE DE DRENAGEM E CONTROLO DE EROSÃO
A4: 2.1 | B4: CHAMANCULO-A (Av. Trabalho, Rua 2333, Rua Estácio Dias, Rua 2253)
B5: ObservaçõesTodos os trabalhos descritos neste Mapa de Quantidades deverão ser executados de acordo com os Desenhos e Especificações que fazem parte deste Projeto Detalhado, incluindo todos os trabalhos, materiais e acessórios necessários e complementares para a correta execução das tarefas.
A6: 2.1.1 | B6: Rede Unitária
A7: 2.1.1.1 | B7: Remoção e substituição de pavimentos
A8: 2.1.1.1.1 | B8: Pavimento em terra batida
A9: 2.1.1.1.1.1 | B9: Levantamento e reposição do pavimento de terra batida nas condições existentes, na largura da vala, com 0,15m de espessura após compactação, incluindo espalhamento, regularização, rega e compactação em camadas de 0,15m de espessura, incluindo substituição da camada de fundação, e todos os trabalhos acessórios e transporte para aterro licenciado, até 30 km de distância. | C9: m2 | D9: 1101.319 | F9: =D9*E9 -> 0
A10: 2.1.1.1.2 | B10: Pavimentação em blocos de betão
A11: 2.1.1.1.2.1 | B11: Remoção de pavimento em blocos de betão para abertura de vala, considerando uma sobrelargura de 0,25m para cada lado da vala, incluindo lancis intersectados, seleção e transporte para armazenamento temporário dos materiais utilizáveis para posterior utilização e/ou transporte a destino final, até 30 km de distância, compatível com as exigências legais dos materiais sobrantes, e todos os trabalhos, materiais e acessórios necessários e complementares à correta execução da tarefa. | C11: m2 | D11: 702.6382 | F11: =D11*E11 -> 0
A12: 2.1.1.1.2.2 | B12: Execução de uma camada para assentamento dos blocos de betão, com 0,06m de espessura, no traço de 1/6 de cimento e brita ou pó de pedra, incluindo espalhamento, regularização e todos os trabalhos, materiais e acessórios necessários e complementares para a correta execução da tarefa. | C12: m2 | D12: 702.6382 | F12: =D12*E12 -> 0
A13: 2.1.1.1.2.3 | B13: Assentamento de blocos de betão para reposição do pavimento no estado em que se encontra, com juntas de separação entre 2 e 3 mm de espessura, incluindo enchimento das juntas com areia fina, seca e natural com granulometria entre 0 e 2 mm, assentamento de lancis interceptados, fornecimento de todos os materiais para substituição do inutilizado e todos os trabalhos, materiais e acessórios necessários e complementares para a correta execução da tarefa. | C13: m2 | D13: 702.6382 | F13: =D13*E13 -> 0
A14: 2.1.1.1.3 | B14: Pavimento em betão betuminoso
A15: 2.1.1.1.3.1 | B15: Remoção de pavimento betuminoso para abertura de vala, com corte e arranque em toda a largura da vala e uma faixa adicional de 0,25m de cada lado do topo da vala, incluindo remoção, carga, transporte e descarga dos produtos sobrantes para aterro licenciado, até 30 km de distância, e todos os trabalhos, materiais e meios necessários e complementares | C15: m2 | D15: 328.99094 | F15: =D15*E15 -> 0
A16: 2.1.1.1.3.2 | B16: Fornecimento e aplicação de tout-venant (0/40 mm) para a execução da camada de base do pavimento, com espessura igual à existente com um mínimo de 0,30m | C16: m3 | D16: 80.247282 | F16: =D16*E16 -> 0
A17: 2.1.1.1.3.3 | B17: Fornecimento e aplicação de tout-venant (0/60 mm) para execução da camada de base do pavimento, com espessura igual à existente, com um mínimo de 0,30m | C17: m3 | D17: 80.247282 | F17: =D17*E17 -> 0
A18: 2.1.1.1.3.4 | B18: Substituição de pavimento betuminoso com preparação, nivelamento e compactação da caixa de pavimento, em toda a largura da vala e uma faixa adicional de 0,25m de cada lado do topo da vala; rega de impregnação; execução de pavimento betuminoso, incluindo todos os trabalhos complementares de substituição das camadas de regularização em betão betuminoso (Binder), com espessura igual à existente com um mínimo de 0.05m (após compactação); rega de ligação; camada de desgaste em betão betuminoso a quente com agregado de basalto, com espessura igual à existente com um mínimo de 0,04m (após compactação); substituição de guias, carris, sinalização vertical e horizontal, pintura; e todos os trabalhos, materiais e meios necessários e complementares | C18: m2 | D18: 328.99094 | F18: =D18*E18 -> 0
B19: Total de 2.1.1.1 | F19: =SUM(F9:F18) -> 0
A20: 2.1.1.2 | B20: Terraplanagens
A21: 2.1.1.2.1 | B21: Escavação de qualquer tipo de solo, com recurso a ferramentas e equipamentos mecânicos adequados, incluindo larguras adicionais, demolição (incluindo remoção de tubagens existentes, demolição e aterro de câmaras existentes para descomissionamento), rebaixamento de lençol freático se necessário, contenção e suporte necessários à perfeita estabilização das valas, escavações, taludes e edifícios vizinhos, reparação e relocalização de infra-estruturas subterrâneas existentes interceptadas, remoção de tubagem existente, compactação mecânica do solo da fundação a um mínimo de 95% do ensaio Proctor modificado (CBR≥5%), e todos os trabalhos, materiais e acessórios necessários e complementares para a correta execução da tarefa.
A22: 2.1.1.2.1.1 | B22: Escavação em areia ou solo mole
A23: 2.1.1.2.1.1.1 | B23: Profundidade 0,00 ≤ H < 1,00 | C23: m3 | D23: 1739.7658 | F23: =D23*E23 -> 0
A24: 2.1.1.2.1.1.2 | B24: Profundidade 1,00 ≤ H < 2,00 | C24: m3 | D24: 1701.1044 | F24: =D24*E24 -> 0
A25: 2.1.1.2.1.1.3 | B25: Profundidade 2,00 ≤ H < 3,00 | C25: m3 | D25: 1550.7482 | F25: =D25*E25 -> 0
A26: 2.1.1.2.1.1.4 | B26: Profundidade 3,00 ≤ H < 4,00 | C26: m3 | D26: 617.92275 | F26: =D26*E26 -> 0
A27: 2.1.1.2.1.1.5 | B27: Profundidade 4,00 ≤ H < 5,00 | C27: m3 | D27: 102.26782 | F27: =D27*E27 -> 0
A28: 2.1.1.2.1.2 | B28: Escavação em rocha ou solo duro
A29: 2.1.1.2.1.2.1 | B29: Profundidade 0,00 ≤ H < 1,00 | C29: m3 | D29: 193.30731 | F29: =D29*E29 -> 0
A30: 2.1.1.2.1.2.2 | B30: Profundidade 1,00 ≤ H < 2,00 | C30: m3 | D30: 231.96878 | F30: =D30*E30 -> 0
A31: 2.1.1.2.1.2.3 | B31: Profundidade 2,00 ≤ H < 3,00 | C31: m3 | D31: 252.44738 | F31: =D31*E31 -> 0
A32: 2.1.1.2.1.2.4 | B32: Profundidade 3,00 ≤ H < 4,00 | C32: m3 | D32: 117.69957 | F32: =D32*E32 -> 0
A33: 2.1.1.2.1.2.5 | B33: Profundidade 4,00 ≤ H < 5,00 | C33: m3 | D33: 22.449033 | F33: =D33*E33 -> 0
A34: 2.1.1.2.2 | B34: Fornecimento e aplicação de areia ou brita para regularização da vala e do leito de assentamento da tubagem, incluindo rega e compactação a 95% do ensaio Proctor Modificado e todos os trabalhos e materiais necessários e complementares. | C34: m3 | D34: 292.5411 | F34: =D34*E34 -> 0
A35: 2.1.1.2.3 | B35: Fornecimento e aplicação de areia ou brita, para reaterro da camada de proteção, incluindo baldeação e compactação até atingir 95% de compactação do ensaio Proctor Modificado, com recurso a equipamento que não danifique a tubagem, aplicada sobre a cama de assentamento até 0,30m acima da cota exterior superior da tubagem. | C35: m3 | D35: 2003.7416 | F35: =D35*E35 -> 0
A36: 2.1.1.2.4 | B36: Execução de aterro até às cotas de projeto, regado e compactado em camadas de 0,20m de espessura, com materiais selecionados provenientes de escavação local ou de aterro importado, incluindo regularização e estabilização de taludes, compactação mecânica da fundação a um mínimo de 95% do ensaio Proctor modificado (CBR≥5%), e todos os trabalhos, materiais e acessórios necessários e complementares à correta execução da tarefa. | C36: m3 | D36: 2472.2033 | F36: =D36*E36 -> 0
A37: 2.1.1.2.5 | B37: Carga, transporte e descarga em destino final, até 30 km de distância, compatível com as exigências legais dos restantes materiais de escavação, incluindo todos os trabalhos, materiais e acessórios necessários e complementares à correta execução da tarefa. | C37: m3 | D37: 4057.4778 | F37: =D37*E37 -> 0
B38: Total de 2.1.1.2 | F38: =SUM(F23:F37) -> 0
A39: 2.1.1.3 | B39: Tubagens e acessórios
A40: 2.1.1.3.1 | B40: Fornecimento, assentamento e ensaio de tubos de betão armado, para drenagem de superfície livre, incluindo proteção anticorrosiva interior constituída por três demãos de tinta à base de resina epoxi e óleo de antraceno, de acordo com as especificações técnicas, juntas de borracha, e todos os trabalhos necessários
...

Sheet 2.2
A1: DESCRIÇÃO | C1: UNIDADE | D1: QUANTIDADES | E1: PREÇO UNITARIO | F1: TOTAL
E2: (MZN) | F2: (MZN)
A3: 2 | B3: REDE DE DRENAGEM E CONTROLO DE EROSÃO
A4: 2.2 | B4: CHAMANCULO-B/D/Xipamanine (Rua da UFA)
B5: ObservaçõesTodos os trabalhos descritos neste Mapa de Quantidades deverão ser executados de acordo com os Desenhos e Especificações que fazem parte deste Projeto Detalhado, incluindo todos os trabalhos, materiais e acessórios necessários e complementares para a correta execução das tarefas.
A6: 2.2.1 | B6: Vala de drenagem
A7: 2.2.1.1 | B7: Terraplanagens
A8: 2.2.1.1.1 | B8: Escavação de qualquer tipo de solo, com recurso a ferramentas e equipamentos mecânicos adequados, incluindo larguras adicionais, demolição (incluindo remoção de tubagens existentes, demolição e aterro de câmaras existentes para descomissionamento), rebaixamento de lençol freático se necessário, contenção e suporte necessários à perfeita estabilização das valas, escavações, taludes e edifícios vizinhos, reparação e relocalização de infra-estruturas subterrâneas existentes interceptadas, remoção de tubagem existente, compactação mecânica do solo da fundação a um mínimo de 95% do ensaio Proctor modificado (CBR≥5%), e todos os trabalhos, materiais e acessórios necessários e complementares para a correta execução da tarefa.
A9: 2.2.1.1.1.1 | B9: Escavação em areia ou solo mole
A10: 2.2.1.1.1.1.1 | B10: Profundidade 0,00 ≤ H < 1,00 | C10: m3 | D10: 1036.9379 | F10: =D10*E10 -> 0
A11: 2.2.1.1.1.1.2 | B11: Profundidade 1,00 ≤ H < 2,00 | C11: m3 | D11: 909.92148 | F11: =D11*E11 -> 0
A12: 2.2.1.1.1.1.3 | B12: Profundidade 2,00 ≤ H < 3,00 | C12: m3 | D12: 422.10833 | F12: =D12*E12 -> 0
A13: 2.2.1.1.1.1.4 | B13: Profundidade 3,00 ≤ H < 4,00 | C13: m3 | D13: 0.07970641 | F13: =D13*E13 -> 0
A14: 2.2.1.1.1.2 | B14: Escavação em rocha ou solo duro
A15: 2.2.1.1.1.2.1 | B15: Profundidade 0,00 ≤ H < 1,00 | C15: m3 | D15: 115.21532 | F15: =D15*E15 -> 0
A16: 2.2.1.1.1.2.2 | B16: Profundidade 1,00 ≤ H < 2,00 | C16: m3 | D16: 124.0802 | F16: =D16*E16 -> 0
A17: 2.2.1.1.1.2.3 | B17: Profundidade 2,00 ≤ H < 3,00 | C17: m3 | D17: 68.71531 | F17: =D17*E17 -> 0
A18: 2.2.1.1.1.2.4 | B18: Profundidade 3,00 ≤ H < 4,00 | C18: m3 | D18: 0.015182173 | F18: =D18*E18 -> 0
A19: 2.2.1.1.2 | B19: Fornecimento e aplicação de betão de recobrimento classe C12/15, numa camada de 0,10 m | C19: m2 | D19: 1178.972 | F19: =D19*E19 -> 0
A20: 2.2.1.1.3 | B20: Carga, transporte e descarga em destino final, até 30 km de distância, compatível com as exigências legais dos restantes materiais de escavação, incluindo todos os trabalhos, materiais e acessórios necessários e complementares à correta execução da tarefa. | C20: m3 | D20: 2677.0734 | F20: =D20*E20 -> 0
A21: 2.2.1.1.4 | B21: Beneficiação de fundações, valas comb≥ 1,00 m, instaladas em solos de má consistência.
A22: 2.2.1.1.4.1 | B22: Fornecimento e aplicação de brita (0,5 a 3,2 mm) para regularização do leito da vala, e todos os trabalhos e materiais necessários e complementares.
A23: 2.2.1.1.4.1.1 | B23: b=1,50 m (comprimento estimado de 20%) | C23: m3 | D23: 60.5056 | F23: =D23*E23 -> 0
A24: 2.2.1.1.4.2 | B24: Fornecimento e colocação de geotêxtil não tecido de 200g/m2 em polipropileno, no envolvimento da camada de brita no fundo da vala, incluindo sobreposições e todos os trabalhos, materiais e acessórios necessários e complementares para a correta execução da tarefa (a medição inclui sobreposições de 0,30m).
A25: 2.2.1.1.4.2.1 | B25: b=1,50 m (comprimento estimado de 20%) | C25: m2 | D25: 385.7232 | F25: =D25*E25 -> 0
B26: Total de 2.2.1.1 | F26: =SUM(F10:F25) -> 0
A27: 2.2.1.2 | B27: Lajes de betão para valas e coberturas
A28: 2.2.1.2.1 | B28: Construção civil completa de valas em betão drenante de secção retangular, conforme Desenho DE-08, em betão C30/37 armado com aço S400NR, incluindo cofragem, betão de regularização (C12/15), nivelamento, cura e todos os trabalhos, materiais e acessórios necessários e complementares à boa execução da tarefa
A29: 2.2.1.2.1.1 | B29: b=0.80 m | C29: m³ | D29: 276.457 | F29: =D29*E29 -> 0
A30: 2.2.1.2.1.2 | B30: b=1,50 m | C30: m³ | D30: 616.52651 | F30: =D30*E30 -> 0
A31: 2.2.1.2.2 | B31: Fornecimento e colocação de lajes de cobertura de vala de drenagem em betão C30/37 reforçado com aço S400NR incluindo cofragem, cura e todos os trabalhos, materiais e acessórios necessários e complementares para a correta execução da tarefa
A32: 2.2.1.2.2.1 | B32: b=0.80 m | F32: =D32*E32 -> 0
A33: 2.2.1.2.2.1.1 | B33: Laje de cobertura em tubo I (nivelada com o pavimento) | C33: m | D33: 348.21 | F33: =D33*E33 -> 0
A34: 2.2.1.2.2.1.2 | B34: Laje de cobertura com Caleira (nivelada com o pavimento) | C34: m | D34: 4 | F34: =D34*E34 -> 0
A35: 2.2.1.2.2.1.3 | B35: Laje de cobertura do tubo I (nivelada com o pavimento) - lajes de reserva extra 5% | C35: m | D35: 18 | F35: =D35*E35 -> 0
A36: 2.2.1.2.2.2 | B36: b=1,50 m
A37: 2.2.1.2.2.2.1 | B37: Laje de cobertura em tubo I (nivelada com o pavimento) | C37: m | D37: 358.16 | F37: =D37*E37 -> 0
A38: 2.2.1.2.2.2.2 | B38: Laje de cobertura com Caleira (nivelada com o pavimento) | C38: m | D38: 20 | F38: =D38*E38 -> 0
A39: 2.2.1.2.2.2.3 | B39: Laje de cobertura do tubo I (nivelada com o pavimento) - lajes de reserva extra 5% | C39: m | D39: 18 | F39: =D39*E39 -> 0
B40: Total de 2.2.1.2 | F40: =SUM(F29:F39) -> 0
...

Sheet 2.3
A1: DESCRIÇÃO | C1: UNIDADE | D1: QUANTIDADES | E1: PREÇO UNITARIO | F1: TOTAL
E2: (MZN) | F2: (MZN)
A3: 2 | B3: REDE DE DRENAGEM E CONTROLO DE EROSÃO
A4: 2.3 | B4: CHAMANCULO-B/D/Xipamanine (Rua Marcelino dos Santos)
B5: ObservaçõesTodos os trabalhos descritos neste Mapa de Quantidades deverão ser executados de acordo com os Desenhos e Especificações que fazem parte deste Projeto Detalhado, incluindo todos os trabalhos, materiais e acessórios necessários e complementares para a correta execução das tarefas.
A6: 2.3.1 | B6: Vala de drenagem
A7: 2.3.1.1 | B7: Remoção e substituição de pavimentos
A8: 2.3.1.1.1 | B8: Pavimentação em blocos de betão
A9: 2.3.1.1.1.1 | B9: Remoção de pavimento em blocos de betão para abertura de vala, considerando uma sobrelargura de 0,25m para cada lado da vala, incluindo lancis intersectados, seleção e transporte para armazenamento temporário dos materiais utilizáveis para posterior utilização e/ou transporte a destino final, até 30 km de distância, compatível com as exigências legais dos materiais sobrantes, e todos os trabalhos, materiais e acessórios necessários e complementares à correta execução da tarefa. | C9: m2 | D9: 852.572 | F9: =D9*E9 -> 0
A10: 2.3.1.1.1.2 | B10: Execução de uma camada para assentamento dos blocos de betão, com 0,06m de espessura, no traço de 1/6 de cimento e brita ou pó de pedra, incluindo espalhamento, regularização e todos os trabalhos, materiais e acessórios necessários e complementares para a correta execução da tarefa. | C10: m2 | D10: 852.572 | F10: =D10*E10 -> 0
A11: 2.3.1.1.1.3 | B11: Assentamento de blocos de betão para reposição do pavimento no estado em que se encontra, com juntas de separação entre 2 e 3 mm de espessura, incluindo enchimento das juntas com areia fina, seca e natural com granulometria entre 0 e 2 mm, assentamento de lancis interceptados, fornecimento de todos os materiais para substituição do inutilizado e todos os trabalhos, materiais e acessórios necessários e complementares para a correta execução da tarefa. | C11: m2 | D11: 852.572 | F11: =D11*E11 -> 0
B12: Total de 2.3.1.1 | F12: =SUM(F9:F11) -> 0
A13: 2.3.1.2 | B13: Terraplanagens
A14: 2.3.1.2.1 | B14: Escavação de qualquer tipo de solo, com recurso a ferramentas e equipamentos mecânicos adequados, incluindo larguras adicionais, demolição (incluindo remoção de tubagens existentes, demolição e aterro de câmaras existentes para descomissionamento), rebaixamento de lençol freático se necessário, contenção e suporte necessários à perfeita estabilização das valas, escavações, taludes e edifícios vizinhos, reparação e relocalização de infra-estruturas subterrâneas existentes interceptadas, remoção de tubagem existente, compactação mecânica do solo da fundação a um mínimo de 95% do ensaio Proctor modificado (CBR≥5%), e todos os trabalhos, materiais e acessórios necessários e complementares para a correta execução da tarefa.
A15: 2.3.1.2.1.1 | B15: Escavação em areia ou solo macio
A16: 2.3.1.2.1.1.1 | B16: Profundidade 0,00 ≤ H < 1,00 | C16: m3 | D16: 490.87196 | F16: =D16*E16 -> 0
A17: 2.3.1.2.1.1.2 | B17: Profundidade 1,00 ≤ H < 2,00 | C17: m3 | D17: 77.368219 | F17: =D17*E17 -> 0
A18: 2.3.1.2.1.2 | B18: Escavação em rocha ou solo duro
A19: 2.3.1.2.1.2.1 | B19: Profundidade 0,00 ≤ H < 1,00 | C19: m3 | D19: 54.541329 | F19: =D19*E19 -> 0
A20: 2.3.1.2.1.2.2 | B20: Profundidade 1,00 ≤ H < 2,00 | C20: m3 | D20: 10.550212 | F20: =D20*E20 -> 0
A21: 2.3.1.2.2 | B21: Fornecimento e aplicação de betão de limpeza classe C12/15, numa camada de 0,10 m | C21: m2 | D21: 572.257 | F21: =D21*E21 -> 0
A22: 2.3.1.2.3 | B22: Carga, transporte e descarga em destino final, até 30 km de distância, compatível com as exigências legais dos restantes materiais de escavação, incluindo todos os trabalhos, materiais e acessórios necessários e complementares à correta execução da tarefa. | C22: m3 | D22: 633.33172 | F22: =D22*E22 -> 0
B23: Total de 2.3.1.2 | F23: =SUM(F16:F22) -> 0
A24: 2.3.1.3 | B24: Lajes de betão para valas e coberturas
A25: 2.3.1.3.1 | B25: Construção civil completa de valas em betão drenante de secção retangular, conforme Desenho DE-08, em betão C30/37 armado com aço S400NR, incluindo cofragem, betão de regularização (C12/15), nivelamento, cura e todos os trabalhos, materiais e acessórios necessários e complementares à boa execução da tarefa
A26: 2.3.1.3.1.1 | B26: b=0,50 m | C26: m³ | D26: 198.10497 | F26: =D26*E26 -> 0
A27: 2.3.1.3.1.2 | B27: b=0,70 m | C27: m³ | D27: 109.91676 | F27: =D27*E27 -> 0
A28: 2.3.1.3.2 | B28: Fornecimento e colocação de lajes de cobertura de vala de drenagem em betão C30/37 reforçado com aço S400NR incluindo cofragem, cura e todos os trabalhos, materiais e acessórios necessários e complementares para a correta execução da tarefa
A29: 2.3.1.3.2.1 | B29: Tipo 3B com B=b=0,50 m
A30: 2.3.1.3.2.1.1 | B30: Laje de cobertura em tubo I (nivelada com o pavimento) | C30: m | D30: 397 | F30: =D30*E30 -> 0
A31: 2.3.1.3.2.1.2 | B31: Laje de cobertura do tubo I (nivelada com o pavimento) - lajes de reserva extra 5% | C31: m | D31: 20 | F31: =D31*E31 -> 0
A32: 2.3.1.3.2.2 | B32: Tipo 3B com B=b=0,60 m | F32: =D32*E32 -> 0
A33: 2.3.1.3.2.2.1 | B33: Laje de cobertura em tubo I (nivelada com o pavimento) | C33: m | D33: 213 | F33: =D33*E33 -> 0
A34: 2.3.1.3.2.2.2 | B34: Laje de cobertura do tubo I (nivelada com o pavimento) - lajes de reserva extra 5% | C34: m | D34: 11 | F34: =D34*E34 -> 0
A35: 2.3.1.3.2.2.3 | B35: Laje de cobertura com Caleira (nivelada com o pavimento) | C35: m | D35: 20 | F35: =D35*E35 -> 0
B36: Total de 2.3.1.3 | F36: =SUM(F26:F35) -> 0
A37: 2.3.1.4 | B37: Condutas de passagem
A38: 2.3.1.4.1 | B38: Fornecimento e construção de condutas de passagem sob as valas de drenagem, incluindo 3 x tubos canal SN8 DN400 em PPc, revestimento em betão C30/37 com adição de fibras de polipropileno (0,6 kg/m3), marcação em betão, conforme desenho DE-08, tamponamento provisório, terraplanagem e remoção dos restantes elementos para destino adequado
A39: 2.2.1.4.1.1 | B39: Conduta de passagem Vala Norte km 0+154 | C39: m | D39: 10 | F39: =D39*E39 -> 0
A40: 2.2.1.4.1.2 | B40: Conduta de passagem Vala Norte km 0+238 | C40: m | D40: 10 | F40: =D40*E40 -> 0
...

Sheet 2.4
A1: DESCRIÇÃO | C1: UNIDADE | D1: QUANTIDADES | E1: PREÇO UNITARIO | F1: TOTAL
E2: (MZN) | F2: (MZN)
A3: 2 | B3: REDE DE DRENAGEM E CONTROLO DE EROSÃO
A4: 2.4 | B4: MALANGA MACRO (Av. do Trabalho, Rua 2019)
B5: ObservaçõesTodos os trabalhos descritos neste Mapa de Quantidades deverão ser executados de acordo com os Desenhos e Especificações que fazem parte deste Projeto Detalhado, incluindo todos os trabalhos, materiais e acessórios necessários e complementares para a correta execução das tarefas.
A6: 2.4.1 | B6: Rede Unitária
A7: 2.4.1.1 | B7: Remoção e substituição de pavimentos
A8: 2.4.1.1.1 | B8: Pavimento em terra batida
A9: 2.4.1.1.1.1 | B9: Levantamento e reposição do pavimento de terra batida nas condições existentes, na largura da vala, com 0,15m de espessura após compactação, incluindo espalhamento, regularização, rega e compactação em camadas de 0,15m de espessura, incluindo substituição da camada de fundação, e todos os trabalhos acessórios e transporte para aterro licenciado, até 30 km de distância. | C9: m2 | D9: 104.64786 | F9: =D9*E9 -> 0
A10: 2.4.1.1.2 | B10: Pavimento em betão
A11: 2.4.1.1.2.1 | B11: Remoção de pavimento de betão em passeios para abertura de vala, considerando uma sobre-largura de 0,25m de cada lado da vala, incluindo lancis intersectados, seleção e transporte para armazenamento temporário de materiais utilizáveis para posterior utilização e/ou transporte a destino final, até 30 km de distância, compatível com as exigências legais dos materiais sobrantes, e todos os trabalhos, materiais e acessórios necessários e complementares para a correta execução da tarefa. | C11: m2 | D11: 264.07348 | F11: =D11*E11 -> 0
A12: 2.4.1.1.2.2 | B12: Colocação de pavimento em betão para repor o pavimento no estado em que se encontrava, incluindo cortes a efetuar para ajustes, reenchimento de juntas com areia fina, seca, siliciosa, com granulometria entre 0 e 2 mm, colocação de lancis interceptados, fornecimento de todos os materiais para substituição do inutilizado e todos os trabalhos, materiais e acessórios necessários e complementares para a correta execução da tarefa. | C12: m2 | D12: 264.07348 | F12: =D12*E12 -> 0
A13: 2.4.1.1.3 | B13: Pavimento em betão betuminoso
A14: 2.4.1.1.3.1 | B14: Remoção de pavimento betuminoso para abertura de vala, com corte e arranque em toda a largura da vala e uma faixa adicional de 0,25m de cada lado do topo da vala, incluindo remoção, carga, transporte e descarga dos produtos sobrantes para aterro licenciado, até 30 km de distância, e todos os trabalhos, materiais e meios necessários e complementares | C14: m2 | D14: 3727.6578 | F14: =D14*E14 -> 0
A15: 2.4.1.1.3.2 | B15: Fornecimento e aplicação de tout-venant (0/40 mm) para a execução da camada de base do pavimento, com espessura igual à existente com um mínimo de 0,30m | C15: m3 | D15: 968.40862 | F15: =D15*E15 -> 0
A16: 2.4.1.1.3.3 | B16: Fornecimento e aplicação de tout-venant (0/60 mm) para execução da camada de base do pavimento, com espessura igual à existente, com um mínimo de 0,30m | C16: m3 | D16: 968.40862 | F16: =D16*E16 -> 0
A17: 2.4.1.1.3.4 | B17: Substituição de pavimento betuminoso com preparação, nivelamento e compactação da caixa de pavimento, em toda a largura da vala e uma faixa adicional de 0,25m de cada lado do topo da vala; rega de impregnação; execução de pavimento betuminoso, incluindo todos os trabalhos complementares de substituição das camadas de regularização em betão betuminoso (Binder), com espessura igual à existente com um mínimo de 0.05m (após compactação); rega de ligação; camada de desgaste em betão betuminoso a quente com agregado de basalto, com espessura igual à existente com um mínimo de 0,04m (após compactação); substituição de guias, carris, sinalização vertical e horizontal, pintura; e todos os trabalhos, materiais e meios necessários e complementares | C17: m2 | D17: 3727.6578 | F17: =D17*E17 -> 0
A18: 2.4.1.1.4 | B18: Valas de drenagem em betão
A19: 2.4.1.1.4.1 | B19: Remoção de valas de drenagem em betão para abertura de vala, considerando uma sobre-largura de 0,25m para cada lado da vala, incluindo o transporte para armazenamento temporário de materiais utilizáveis para posterior utilização e/ou transporte a destino final, até 30 km de distância, compatível com as exigências legais dos materiais sobrantes, e todos os trabalhos, materiais e acessórios necessários e complementares para a correta execução da tarefa. | C19: m2 | D19: 344.36498 | F19: =D19*E19 -> 0
A20: 2.4.1.1.4.2 | B20: Colocação de betão para repor as valas de drenagem nas condições existentes, incluindo os cortes a efetuar para ajustes, reenchimento das juntas com areia fina, seca, siliciosa, com granulometria entre 0 e 2 mm, fornecimento de todo o material, todos os trabalhos e acessórios necessários e complementares para a correta execução da tarefa. | C20: m2 | D20: 344.36498 | F20: =D20*E20 -> 0
B21: Total de 2.4.1.1 | F21: =SUM(F9:F20) -> 0
A22: 2.4.1.2 | B22: Terraplanagens
A23: 2.4.1.2.1 | B23: Escavação de qualquer tipo de solo, com recurso a ferramentas e equipamentos mecânicos adequados, incluindo larguras adicionais, demolição (incluindo remoção de tubagens existentes, demolição e aterro de câmaras existentes para descomissionamento), rebaixamento de lençol freático se necessário, contenção e suporte necessários à perfeita estabilização das valas, escavações, taludes e edifícios vizinhos, reparação e relocalização de infra-estruturas subterrâneas existentes interceptadas, remoção de tubagem existente, compactação mecânica do solo da fundação a um mínimo de 95% do ensaio Proctor modificado (CBR≥5%), e todos os trabalhos, materiais e acessórios necessários e complementares para a correta execução da tarefa.
A24: 2.4.1.2.1.1 | B24: Escavação em areia ou solo macio
A25: 2.4.1.2.1.1.1 | B25: Profundidade 0,00 ≤ H < 1,00 | C25: m3 | D25: 4103.9426 | F25: =D25*E25 -> 0
A26: 2.4.1.2.1.1.2 | B26: Profundidade 1,00 ≤ H < 2,00 | C26: m3 | D26: 4012.7438 | F26: =D26*E26 -> 0
A27: 2.4.1.2.1.1.3 | B27: Profundidade 2,00 ≤ H < 3,00 | C27: m3 | D27: 3916.8858 | F27: =D27*E27 -> 0
A28: 2.4.1.2.1.1.4 | B28: Profundidade 3,00 ≤ H < 4,00 | C28: m3 | D28: 3088.2841 | F28: =D28*E28 -> 0
A29: 2.4.1.2.1.1.5 | B29: Profundidade 4,00 ≤ H < 5,00 | C29: m3 | D29: 645.64431 | F29: =D29*E29 -> 0
A30: 2.4.1.2.1.2 | B30: Escavação em rocha ou solo duro
A31: 2.4.1.2.1.2.1 | B31: Profundidade 0,00 ≤ H < 1,00 | C31: m3 | D31: 455.99362 | F31: =D31*E31 -> 0
A32: 2.4.1.2.1.2.2 | B32: Profundidade 1,00 ≤ H < 2,00 | C32: m3 | D32: 547.19234 | F32: =D32*E32 -> 0
A33: 2.4.1.2.1.2.3 | B33: Profundidade 2,00 ≤ H < 3,00 | C33: m3 | D33: 637.63258 | F33: =D33*E33 -> 0
A34: 2.4.1.2.1.2.4 | B34: Profundidade 3,00 ≤ H < 4,00 | C34: m3 | D34: 588.2446 | F34: =D34*E34 -> 0
A35: 2.4.1.2.1.2.5 | B35: Profundidade 4,00 ≤ H < 5,00 | C35: m3 | D35: 141.7268 | F35: =D35*E35 -> 0
A36: 2.4.1.2.2 | B36: Fornecimento e aplicação de areia ou brita para regularização da vala e do leito de assentamento da tubagem, incluindo rega e compactação a 95% do ensaio Proctor Modificado e todos os trabalhos e materiais necessários e complementares. | C36: m3 | D36: 685.06194 | F36: =D36*E36 -> 0
A37: 2.4.1.2.3 | B37: Fornecimento e aplicação de areia ou brita, para reaterro da camada de proteção, incluindo baldeação e compactação até atingir 95% de compactação do ensaio Proctor Modificado, com recurso a equipamento que não danifique a tubagem, aplicada sobre a cama de assentamento até 0,30m acima da cota exterior superior da tubagem. | C37: m3 | D37: 15.928053 | F37: =D37*E37 -> 0
A38: 2.4.1.2.4 | B38: Fornecimento e aplicação de brita para camada de fundação da vala, com uma espessura de 0,40m, incluindo baldeação e compactação para atingir 95% de compactação do ensaio Proctor Modificado e todos os trabalhos e materiais necessários e complementares. | C38: m3 | D38: 1815.5137 | F38: =D38*E38 -> 0
A39: 2.4.1.2.5 | B39: Fornecimento e colocação de geotêxtil não tecido de300g/m2 em polipropileno, no envolvimento da camada de brita no fundo da vala, incluindo sobreposições e todos os trabalhos, materiais e acessórios necessários e complementares para a correta execução da tarefa (a medição inclui sobreposições de 0,30m). | C39: m2 | D39: 302.2 | F39: =D39*E39 -> 0
A40: 2.4.1.2.6 | B40: Execução de aterro até às cotas de projeto, regado e compactado em camadas de 0,20m de espessura, com materiais selecionados provenientes de escavação local ou de aterro importado, incluindo regularização e estabilização de taludes, compactação mecânica da fundação a um mínimo de 95% do ensaio Proctor modificado (CBR≥5%), e todos os trabalhos, materiais e acessórios necessários e complementares à correta execução da tarefa. | C40: m3 | D40: 7038.2826 | F40: =D40*E40 -> 0
...

Sheet 3.1
A1: DESCRIÇÃO | C1: UNIDADE | D1: QUANTIDADES | E1: PREÇO UNITARIO | F1: TOTAL
E2: (MZN) | F2: (MZN)
A3: 3 | B3: REDE DE DISTRIBUIÇÃO DE ÁGUA
A4: 3.1 | B4: CHAMANCULO-A (Av. Trabalho, Rua 2333, Rua Estácio Dias, Rua 2253)
B5: ObservaçõesTodos os trabalhos descritos neste Mapa de Quantidades deverão ser executados de acordo com os Desenhos e Especificações que fazem parte deste Projeto Detalhado, incluindo todos os trabalhos, materiais e acessórios necessários e complementares para a correta execução das tarefas.
A6: 3.1.1 | B6: Remoção e substituição de pavimentos
A7: 3.1.1.1 | B7: Pavimento em terra batida
A8: 3.1.1.1.1 | B8: Levantamento e reposição do pavimento de terra batida nas condições existentes, na largura da vala, com 0,15m de espessura após compactação, incluindo espalhamento, regularização, rega e compactação em camadas de 0,15m de espessura, incluindo substituição da camada de fundação, e todos os trabalhos acessórios e transporte para aterro licenciado, até 30 km de distância. | C8: m2 | D8: 245.11563 | F8: =D8*E8 -> 0
A9: 3.1.1.2 | B9: Pavimentação em blocos de betão
A10: 3.1.1.2.1 | B10: Remoção de pavimento em blocos de betão para abertura de vala, considerando uma sobrelargura de 0,25m para cada lado da vala, incluindo lancis intersectados, seleção e transporte para armazenamento temporário dos materiais utilizáveis para posterior utilização e/ou transporte a destino final, até 30 km de distância, compatível com as exigências legais dos materiais sobrantes, e todos os trabalhos, materiais e acessórios necessários e complementares à correta execução da tarefa. | C10: m2 | D10: 558.62394 | F10: =D10*E10 -> 0
A11: 3.1.1.2.2 | B11: Execução de uma camada para assentamento dos blocos de betão, com 0,06m de espessura, no traço de 1/6 de cimento e brita ou pó de pedra, incluindo espalhamento, regularização e todos os trabalhos, materiais e acessórios necessários e complementares para a correta execução da tarefa. | C11: m2 | D11: 558.62394 | F11: =D11*E11 -> 0
A12: 3.1.1.2.3 | B12: Assentamento de blocos de betão para reposição do pavimento no estado em que se encontra, com juntas de separação entre 2 e 3 mm de espessura, incluindo enchimento das juntas com areia fina, seca e natural com granulometria entre 0 e 2 mm, assentamento de lancis interceptados, fornecimento de todos os materiais para substituição do inutilizado e todos os trabalhos, materiais e acessórios necessários e complementares para a correta execução da tarefa. | C12: m2 | D12: 558.62394 | F12: =D12*E12 -> 0
A13: 3.1.1.3 | B13: Pavimento em betão
A14: 3.1.1.3.1 | B14: Remoção de pavimento de betão em passeios para abertura de vala, considerando uma sobre-largura de 0,25m de cada lado da vala, incluindo lancis intersectados, seleção e transporte para armazenamento temporário de materiais utilizáveis para posterior utilização e/ou transporte a destino final, até 30 km de distância, compatível com as exigências legais dos materiais sobrantes, e todos os trabalhos, materiais e acessórios necessários e complementares para a correta execução da tarefa. | C14: m2 | D14: 70.35 | F14: =D14*E14 -> 0
A15: 3.1.1.3.2 | B15: Colocação de pavimento em betão para repor o pavimento no estado em que se encontrava, incluindo cortes a efetuar para ajustes, reenchimento de juntas com areia fina, seca, siliciosa, com granulometria entre 0 e 2 mm, colocação de lancis interceptados, fornecimento de todos os materiais para substituição do inutilizado e todos os trabalhos, materiais e acessórios necessários e complementares para a correta execução da tarefa. | C15: m2 | D15: 70.35 | F15: =D15*E15 -> 0
A16: 3.1.1.4 | B16: Pavimento em betão betuminoso
A17: 3.1.1.4.1 | B17: Remoção de pavimento betuminoso para abertura de vala, com corte e arranque em toda a largura da vala e uma faixa adicional de 0,25m de cada lado do topo da vala, incluindo remoção, carga, transporte e descarga dos produtos sobrantes para aterro licenciado, até 30 km de distância, e todos os trabalhos, materiais e meios necessários e complementares | C17: m2 | D17: 297.24248 | F17: =D17*E17 -> 0
A18: 3.1.1.4.2 | B18: Substituição de pavimento betuminoso com preparação, nivelamento e compactação da caixa de pavimento, em toda a largura da vala e uma faixa adicional de 0,25m de cada lado do topo da vala; rega de impregnação; execução de pavimento betuminoso, incluindo todos os trabalhos complementares de substituição das camadas de regularização em betão betuminoso (Binder), com espessura igual à existente com um mínimo de 0.05m (após compactação); rega de ligação; camada de desgaste em betão betuminoso a quente com agregado de basalto, com espessura igual à existente com um mínimo de 0,04m (após compactação); substituição de guias, carris, sinalização vertical e horizontal, pintura; e todos os trabalhos, materiais e meios necessários e complementares | C18: m2 | D18: 297.24248 | F18: =D18*E18 -> 0
B19: Total de 3.1.1 | F19: =SUM(F8:F18) -> 0
A20: 3.1.2 | B20: Terraplanagens
A21: 3.1.2.1 | B21: Escavação de qualquer tipo de solo, com recurso a ferramentas e equipamentos mecânicos adequados, incluindo larguras adicionais, demolição (incluindo remoção de tubagens existentes, demolição e aterro de câmaras existentes para descomissionamento), rebaixamento de lençol freático se necessário, contenção e suporte necessários à perfeita estabilização das valas, escavações, taludes e edifícios vizinhos, reparação e relocalização de infra-estruturas subterrâneas existentes interceptadas, remoção de tubagem existente, compactação mecânica do solo da fundação a um mínimo de 95% do ensaio Proctor modificado (CBR≥5%), e todos os trabalhos, materiais e acessórios necessários e complementares para a correta execução da tarefa.
A22: 3.1.2.1.1 | B22: Escavação em areia ou solo mole
A23: 3.1.2.1.1.1 | B23: Profundidade 0,00 ≤ H < 1,00 | C23: m3 | D23: 717.67982 | F23: =D23*E23 -> 0
A24: 3.1.2.1.1.2 | B24: Profundidade 1,00 ≤ H < 2,00 | C24: m3 | D24: 129.55074 | F24: =D24*E24 -> 0
A25: 3.1.2.1.2 | B25: Escavação em rocha ou solo duro
A26: 3.1.2.1.2.1 | B26: Profundidade 0,00 ≤ H < 1,00 | C26: m3 | D26: 79.742202 | F26: =D26*E26 -> 0
A27: 3.1.2.1.2.2 | B27: Profundidade 1,00 ≤ H < 2,00 | C27: m3 | D27: 17.66601 | F27: =D27*E27 -> 0
A28: 3.1.2.2 | B28: Fornecimento e aplicação de areia ou brita para regularização da vala e do leito de assentamento da tubagem, incluindo rega e compactação a 95% do ensaio Proctor Modificado e todos os trabalhos e materiais necessários e complementares. | C28: m3 | D28: 79.742203 | F28: =D28*E28 -> 0
A29: 3.1.2.3 | B29: Fornecimento e aplicação de areia ou brita, para enchimento da camada de proteção, incluindo baldeação e compactação até 95% de compactação do ensaio Proctor Modificado, com recurso a equipamento que não danifique a tubagem, aplicada sobre a cama de assentamento até 0,30m acima da cota superior exterior da tubagem. | C29: m3 | D29: 298.02621 | F29: =D29*E29 -> 0
A30: 3.1.2.4 | B30: Fornecimento e aplicação de tout-venant (0/40 mm) para execução da camada de base do pavimento, com espessura igual à existente com um mínimo de 0,30m, de acordo com o Desenho AA_07. | C30: m3 | D30: 47.167195 | F30: =D30*E30 -> 0
A31: 3.1.2.5 | B31: Fornecimento e aplicação de tout-venant (0/60 mm) para execução da camada de base do pavimento, com espessura igual à existente, com um mínimo de 0,30m | C31: m3 | D31: 47.167195 | F31: =D31*E31 -> 0
A32: 3.1.2.6 | B32: Execução de aterro até às cotas de projeto, regado e compactado em camadas de 0,20m de espessura, com materiais selecionados provenientes de escavação local ou de aterro importado, incluindo regularização e estabilização de taludes, compactação mecânica da fundação a um mínimo de 95% do ensaio Proctor modificado (CBR≥5%), e todos os trabalhos, materiais e acessórios necessários e complementares à correta execução da tarefa, de acordo com o Desenho AA_07. | C32: m3 | D32: 463.86103 | F32: =D32*E32 -> 0
A33: 3.1.2.7 | B33: Carga, transporte e descarga em destino final, até 30 km de distância, compatível com as exigências legais dos restantes materiais de escavação, incluindo todos os trabalhos, materiais e acessórios necessários e complementares à correta execução da tarefa. | C33: m3 | D33: 480.77775 | F33: =D33*E33 -> 0
B34: Total de 3.1.2 | F34: =SUM(F23:F33) -> 0
A35: 3.1.3 | B35: Tubagens e acessórios
A36: 3.1.3.1 | B36: Fornecimento, montagem e assentamento de tubagem em PEAD PE100 NP10 adequada a água potável, incluindo juntas de electrofusão, desinfeção, ensaios, todos os trabalhos, materiais e acessórios necessários e complementares para a correta execução da tarefa.
A37: 3.1.3.1.1 | B37: DN160 | C37: m | D37: 95.818 | F37: =D37*E37 -> 0
A38: 3.1.3.1.2 | B38: DN110 | C38: m | D38: 560.142 | F38: =D38*E38 -> 0
A39: 3.1.3.1.3 | B39: DN75 | C39: m | D39: 10.147 | F39: =D39*E39 -> 0
A40: 3.1.3.1.4 | B40: DN63, entre acessórios | C40: m | D40: 0.5 | F40: =D40*E40 -> 0
...

Sheet 3.2
A1: DESCRIÇÃO | C1: UNIDADE | D1: QUANTIDADES | E1: PREÇO UNITARIO | F1: TOTAL
E2: (MZN) | F2: (MZN)
A3: 3 | B3: REDE DE DISTRIBUIÇÃO DE ÁGUA
A4: 3.2 | B4: CHAMANCULO-B/D/Xipamanine (Rua da UFA, Rua Marcelino dos Santos)
B5: ObservaçõesTodos os trabalhos descritos neste Mapa de Quantidades deverão ser executados de acordo com os Desenhos e Especificações que fazem parte deste Projeto Detalhado, incluindo todos os trabalhos, materiais e acessórios necessários e complementares para a correta execução das tarefas.
A6: 3.2.1 | B6: Remoção e substituição de pavimentos
A7: 3.2.1.1 | B7: Pavimento em terra batida
A8: 3.2.1.1.1 | B8: Levantamento e reposição do pavimento de terra batida nas condições existentes, na largura da vala, com 0,15m de espessura após compactação, incluindo espalhamento, regularização, rega e compactação em camadas de 0,15m de espessura, incluindo substituição da camada de fundação, e todos os trabalhos acessórios e transporte para aterro licenciado, até 30 km de distância. | C8: m2 | D8: 21.61639 | F8: =D8*E8 -> 0
A9: 3.2.1.2 | B9: Pavimentação em blocos de betão
A10: 3.2.1.2.1 | B10: Remoção de pavimento em blocos de betão para abertura de vala, considerando uma sobrelargura de 0,25m para cada lado da vala, incluindo lancis intersectados, seleção e transporte para armazenamento temporário dos materiais utilizáveis para posterior utilização e/ou transporte a destino final, até 30 km de distância, compatível com as exigências legais dos materiais sobrantes, e todos os trabalhos, materiais e acessórios necessários e complementares à correta execução da tarefa. | C10: m2 | D10: 169.56645 | F10: =D10*E10 -> 0
A11: 3.2.1.2.2 | B11: Execução de uma camada para assentamento dos blocos de betão, com 0,06m de espessura, no traço de 1/6 de cimento e brita ou pó de pedra, incluindo espalhamento, regularização e todos os trabalhos, materiais e acessórios necessários e complementares para a correta execução da tarefa. | C11: m2 | D11: 169.56645 | F11: =D11*E11 -> 0
A12: 3.2.1.2.3 | B12: Assentamento de blocos de betão para reposição do pavimento no estado em que se encontra, com juntas de separação entre 2 e 3 mm de espessura, incluindo enchimento das juntas com areia fina, seca e natural com granulometria entre 0 e 2 mm, assentamento de lancis interceptados, fornecimento de todos os materiais para substituição do inutilizado e todos os trabalhos, materiais e acessórios necessários e complementares para a correta execução da tarefa. | C12: m2 | D12: 169.56645 | F12: =D12*E12 -> 0
A13: 3.2.1.3 | B13: Pavimento em betão
A14: 3.2.1.3.1 | B14: Remoção de pavimento de betão em passeios para abertura de vala, considerando uma sobre-largura de 0,25m de cada lado da vala, incluindo lancis intersectados, seleção e transporte para armazenamento temporário de materiais utilizáveis para posterior utilização e/ou transporte a destino final, até 30 km de distância, compatível com as exigências legais dos materiais sobrantes, e todos os trabalhos, materiais e acessórios necessários e complementares para a correta execução da tarefa. | C14: m2 | D14: 438.798 | F14: =D14*E14 -> 0
A15: 3.2.1.3.2 | B15: Colocação de pavimento em betão para repor o pavimento no estado em que se encontrava, incluindo cortes a efetuar para ajustes, reenchimento de juntas com areia fina, seca, siliciosa, com granulometria entre 0 e 2 mm, colocação de lancis interceptados, fornecimento de todos os materiais para substituição do inutilizado e todos os trabalhos, materiais e acessórios necessários e complementares para a correta execução da tarefa. | C15: m2 | D15: 438.798 | F15: =D15*E15 -> 0
B16: Total de 3.2.1 | F16: =SUM(F8:F15) -> 0
A17: 3.2.2 | B17: Terraplanagens
A18: 3.2.2.1 | B18: Escavação de qualquer tipo de solo, com recurso a ferramentas e equipamentos mecânicos adequados, incluindo larguras adicionais, demolição (incluindo remoção de tubagens existentes, demolição e aterro de câmaras existentes para descomissionamento), rebaixamento de lençol freático se necessário, contenção e suporte necessários à perfeita estabilização das valas, escavações, taludes e edifícios vizinhos, reparação e relocalização de infra-estruturas subterrâneas existentes interceptadas, remoção de tubagem existente, compactação mecânica do solo da fundação a um mínimo de 95% do ensaio Proctor modificado (CBR≥5%), e todos os trabalhos, materiais e acessórios necessários e complementares para a correta execução da tarefa.
A19: 3.2.2.1.1 | B19: Escavação em areia ou solo mole
A20: 3.2.2.1.1.1 | B20: Profundidade 0,00 ≤ H < 1,00 | C20: m3 | D20: 988.96495 | F20: =D20*E20 -> 0
A21: 3.2.2.1.1.2 | B21: Profundidade 1,00 ≤ H < 2,00 | C21: m3 | D21: 168.94075 | F21: =D21*E21 -> 0
A22: 3.2.2.1.2 | B22: Escavação em rocha ou solo duro
A23: 3.2.2.1.2.1 | B23: Profundidade 0,00 ≤ H < 1,00 | C23: m3 | D23: 109.88499 | F23: =D23*E23 -> 0
A24: 3.2.2.1.2.2 | B24: Profundidade 1,00 ≤ H < 2,00 | C24: m3 | D24: 23.037376 | F24: =D24*E24 -> 0
A25: 3.2.2.2 | B25: Fornecimento e aplicação de areia ou brita para regularização da vala e do leito de assentamento da tubagem, incluindo rega e compactação a 95% do ensaio Proctor Modificado e todos os trabalhos e materiais necessários e complementares. | C25: m3 | D25: 109.88499 | F25: =D25*E25 -> 0
A26: 3.2.2.3 | B26: Fornecimento e aplicação de areia ou brita, para enchimento da camada de proteção, incluindo baldeação e compactação até 95% de compactação do ensaio Proctor Modificado, com recurso a equipamento que não danifique a tubagem, aplicada sobre a cama de assentamento até 0,30m acima da cota superior exterior da tubagem. | C26: m3 | D26: 402.39448 | F26: =D26*E26 -> 0
A27: 3.2.2.4 | B27: Execução de aterro até às cotas de projeto, regado e compactado em camadas de 0,20m de espessura, com materiais selecionados provenientes de escavação local ou de aterro importado, incluindo regularização e estabilização de taludes, compactação mecânica da fundação a um mínimo de 95% do ensaio Proctor modificado (CBR≥5%), e todos os trabalhos, materiais e acessórios necessários e complementares à correta execução da tarefa. | C27: m3 | D27: 769.19496 | F27: =D27*E27 -> 0
A28: 3.2.2.5 | B28: Carga, transporte e descarga em destino final, até 30 km de distância, compatível com as exigências legais dos restantes materiais de escavação, incluindo todos os trabalhos, materiais e acessórios necessários e complementares à correta execução da tarefa. | C28: m3 | D28: 521.63311 | F28: =D28*E28 -> 0
B29: Total de 3.2.2 | F29: =SUM(F20:F28) -> 0
A30: 3.2.3 | B30: Tubagens e acessórios
A31: 3.2.3.1 | B31: Fornecimento, montagem e assentamento de tubagem em PEAD PE100 NP10 adequada a água potável, incluindo juntas electrosoldadas, desinfeção, ensaios, todos os trabalhos, materiais e acessórios necessários e complementares à boa execução da tarefa.
A32: 3.2.3.1.1 | B32: DN110 | C32: m | D32: 739.835 | F32: =D32*E32 -> 0
A33: 3.2.3.1.2 | B33: DN63 | C33: m | D33: 9.93 | F33: =D33*E33 -> 0
A34: 3.2.3.1.3 | B34: DN50 | C34: m | D34: 1167.2 | F34: =D34*E34 -> 0
A35: 3.2.3.2 | B35: Fornecimento e montagem de acessórios PEAD PE100 NP10 adequados para água potável, incluindo juntas electrosoldadas, desinfeção, ensaios, todos os trabalhos, materiais e acessórios necessários e complementares para a correta execução da tarefa.
A36: 3.2.3.2.1 | B36: Tê simples e de redução | F36: =D36*E36 -> 0
A37: 3.2.3.2.1.1 | B37: DN 110x110 | C37: Un | D37: 15 | F37: =D37*E37 -> 0
A38: 3.2.3.2.1.2 | B38: DN 110x63 | C38: Un | D38: 3 | F38: =D38*E38 -> 0
A39: 3.2.3.2.1.3 | B39: DN 50x50 | C39: Un | D39: 2 | F39: =D39*E39 -> 0
A40: 3.2.3.2.2 | B40: Redutores concêntricos | F40: =D40*E40 -> 0
...

Sheet 3.3
A1: DESCRIÇÃO | C1: UNIDADE | D1: QUANTIDADES | E1: PREÇO UNITARIO | F1: TOTAL
E2: (MZN) | F2: (MZN)
A3: 3 | B3: REDE DE DISTRIBUIÇÃO DE ÁGUA
A4: 3.3 | B4: MALANGA MACRO (Av. do Trabalho, Rua 2019)
B5: ObservaçõesTodos os trabalhos descritos neste Mapa de Quantidades deverão ser executados de acordo com os Desenhos e Especificações que fazem parte deste Projeto Detalhado, incluindo todos os trabalhos, materiais e acessórios necessários e complementares para a correta execução das tarefas.
A6: 3.3.1 | B6: Ligações de Serviço
A7: 3.3.1.1 | B7: Substituição dos ramais de ligação afectados pelas obras da nova rede de drenagem
A8: 3.3.1.1.1 | B8: Remoção e substituição de pavimentos
A9: 3.3.1.1.1.1 | B9: Pavimento em betão
A10: 3.3.1.1.1.1.1 | B10: Remoção de pavimento de betão em passeios para abertura de vala, considerando uma sobre-largura de 0,25m de cada lado da vala, incluindo lancis intersectados, seleção e transporte para armazenamento temporário de materiais utilizáveis para posterior utilização e/ou transporte a destino final, até 30 km de distância, compatível com as exigências legais dos materiais sobrantes, e todos os trabalhos, materiais e acessórios necessários e complementares para a correta execução da tarefa. | C10: m2 | D10: 70.875 | F10: =D10*E10 -> 0
A11: 3.3.1.1.1.1.2 | B11: Colocação de pavimento em betão para repor o pavimento no estado em que se encontrava, incluindo cortes a efetuar para ajustes, reenchimento de juntas com areia fina, seca, siliciosa, com granulometria entre 0 e 2 mm, colocação de lancis interceptados, fornecimento de todos os materiais para substituição do inutilizado e todos os trabalhos, materiais e acessórios necessários e complementares para a correta execução da tarefa. | C11: m2 | D11: 70.875 | F11: =D11*E11 -> 0
A12: 3.3.1.1.2 | B12: Terraplanagens
A13: 3.3.1.1.2.1 | B13: Escavação, Profundidade 0,00 ≤ H < 1.00m, com recurso a ferramentas e equipamentos mecânicos adequados, incluindo larguras adicionais, demolições (incluindo remoção de tubagens existentes, demolição e aterro de câmaras existentes para descomissionamento), rebaixamento de lençol freático se necessário, contenção e apoios necessários à perfeita estabilização das valas, escavações, taludes e construções vizinhas, reparação e relocalização das infra-estruturas subterrâneas existentes interceptadas, compactação mecânica do solo da fundação a um mínimo de 95% do ensaio Proctor modificado (CBR≥5%), e todos os trabalhos, materiais e acessórios necessários e complementares para a correta execução da tarefa (incluindo remoção de tubagens existentes, demolição e reaterro das câmaras existentes a descomissionar). | C13: m3 | D13: 79.734375 | F13: =D13*E13 -> 0
A14: 3.3.1.1.2.2 | B14: Fornecimento e aplicação de areia ou brita para regularização da vala e do leito de assentamento da tubagem, incluindo rega e compactação a 95% do ensaio Proctor Modificado e todos os trabalhos e materiais necessários e complementares. | C14: m3 | D14: 7.0875 | F14: =D14*E14 -> 0
A15: 3.3.1.1.2.3 | B15: Fornecimento e aplicação de areia ou brita, para enchimento da camada de proteção, incluindo baldeação e compactação até 95% de compactação do ensaio Proctor Modificado, com recurso a equipamento que não danifique a tubagem, aplicada sobre a cama de assentamento até 0,30m acima da cota superior exterior da tubagem. | C15: m3 | D15: 22.968107 | F15: =D15*E15 -> 0
A16: 3.3.1.1.2.4 | B16: Execução de aterro até às cotas de projeto, regado e compactado em camadas de 0,20m de espessura, com materiais selecionados provenientes de escavação local ou de aterro importado, incluindo regularização e estabilização de taludes, compactação mecânica da fundação a um mínimo de 95% do ensaio Proctor modificado (CBR≥5%), e todos os trabalhos, materiais e acessórios necessários e complementares à correta execução da tarefa. | C16: m3 | D16: 49.676314 | F16: =D16*E16 -> 0
A17: 3.3.1.1.2.5 | B17: Carga, transporte e descarga em destino final, até 30 km de distância, compatível com as exigências legais dos restantes materiais de escavação, incluindo todos os trabalhos, materiais e acessórios necessários e complementares à correta execução da tarefa. | C17: m3 | D17: 30.058061 | F17: =D17*E17 -> 0
A18: 3.3.1.1.3 | B18: Tubagens e acessórios
A19: 3.3.1.1.3.1 | B19: Fornecimento, montagem e assentamento de tubagem PEAD - PE80 DN 25 L= 10 m (estimativa), sela PEAD, curvas e ligações adequadas para água potável, incluindo juntas de electrofusão, desinfeção, ensaios, fornecimento e colocação de fita de polietileno para sinalização da tubagem, todos os trabalhos, materiais e acessórios necessários e complementares para a correta execução da tarefa, conforme DesenhoAA.06 | C19: Un | D19: 27 | F19: =D19*E19 -> 0
B20: Total de 3.3.1 | F20: =SUM(F10:F19) -> 0
B21: Total de 3.3 | F21: =F20 -> 0

Sheet 4.1
A1: DESCRIÇÃO | C1: UNIDADE | D1: QUANTIDADES | E1: PREÇO UNITARIO | F1: TOTAL
E2: (MZN) | F2: (MZN)
